BEGIN:VCALENDAR
VERSION:2.0
PRODID:-//Kloster Hasungen - ECPv6.15.20//NONSGML v1.0//EN
CALSCALE:GREGORIAN
METHOD:PUBLISH
X-ORIGINAL-URL:https://www.museum-kloster-hasungen.de
X-WR-CALDESC:Veranstaltungen für Kloster Hasungen
REFRESH-INTERVAL;VALUE=DURATION:PT1H
X-Robots-Tag:noindex
X-PUBLISHED-TTL:PT1H
BEGIN:VTIMEZONE
TZID:Europe/Berlin
BEGIN:DAYLIGHT
TZOFFSETFROM:+0100
TZOFFSETTO:+0200
TZNAME:CEST
DTSTART:20220327T010000
END:DAYLIGHT
BEGIN:STANDARD
TZOFFSETFROM:+0200
TZOFFSETTO:+0100
TZNAME:CET
DTSTART:20221030T010000
END:STANDARD
BEGIN:DAYLIGHT
TZOFFSETFROM:+0100
TZOFFSETTO:+0200
TZNAME:CEST
DTSTART:20230326T010000
END:DAYLIGHT
BEGIN:STANDARD
TZOFFSETFROM:+0200
TZOFFSETTO:+0100
TZNAME:CET
DTSTART:20231029T010000
END:STANDARD
BEGIN:DAYLIGHT
TZOFFSETFROM:+0100
TZOFFSETTO:+0200
TZNAME:CEST
DTSTART:20240331T010000
END:DAYLIGHT
BEGIN:STANDARD
TZOFFSETFROM:+0200
TZOFFSETTO:+0100
TZNAME:CET
DTSTART:20241027T010000
END:STANDARD
END:VTIMEZONE
BEGIN:VEVENT
DTSTART;TZID=Europe/Berlin:20230122T163000
DTEND;TZID=Europe/Berlin:20230219T170000
DTSTAMP:20260425T122223
CREATED:20230110T184236Z
LAST-MODIFIED:20230110T184236Z
UID:621-1674405000-1676826000@www.museum-kloster-hasungen.de
SUMMARY:Ausstellung: REAL - IRREal
DESCRIPTION:In der Reihe\n“Künstler aus der Region”\nladen wir ein zur Ausstellung von \nDr. Erwin Carl\nHabichtswald \n“REAL – IRREal” \nMalerei in Aquarell\, Acryl und Öl \nVernissage am 22.1. um 16.30 Uhr \nAusstellung bis Sonntag\, 19. Februar 2022 \nDer Eintritt ist frei. Spenden sind gerne willkommen. Sie kommen der Museumsarbeit zugute. \nBei Anreise mit PKW bitten wir\, möglichst die Parkflächen an der Grillhütte beim Friedhof zu benutzen.
URL:https://www.museum-kloster-hasungen.de/event/ausstellung-real-irreal/
LOCATION:Museum Kloster Hasungen\, Hasunger Str. 21\, Burghasungen\, Deutschland\, 34289\, Deutschland
ATTACH;FMTTYPE=image/jpeg:https://www.museum-kloster-hasungen.de/wp-content/uploads/2023/01/Maritim-2-Erwin-Carl.jpg
END:VEVENT
END:VCALENDAR