BEGIN:VCALENDAR
VERSION:2.0
PRODID:-//Kloster Hasungen - ECPv6.15.20//NONSGML v1.0//EN
CALSCALE:GREGORIAN
METHOD:PUBLISH
X-WR-CALNAME:Kloster Hasungen
X-ORIGINAL-URL:https://www.museum-kloster-hasungen.de
X-WR-CALDESC:Veranstaltungen für Kloster Hasungen
REFRESH-INTERVAL;VALUE=DURATION:PT1H
X-Robots-Tag:noindex
X-PUBLISHED-TTL:PT1H
BEGIN:VTIMEZONE
TZID:Europe/Berlin
BEGIN:DAYLIGHT
TZOFFSETFROM:+0100
TZOFFSETTO:+0200
TZNAME:CEST
DTSTART:20210328T010000
END:DAYLIGHT
BEGIN:STANDARD
TZOFFSETFROM:+0200
TZOFFSETTO:+0100
TZNAME:CET
DTSTART:20211031T010000
END:STANDARD
BEGIN:DAYLIGHT
TZOFFSETFROM:+0100
TZOFFSETTO:+0200
TZNAME:CEST
DTSTART:20220327T010000
END:DAYLIGHT
BEGIN:STANDARD
TZOFFSETFROM:+0200
TZOFFSETTO:+0100
TZNAME:CET
DTSTART:20221030T010000
END:STANDARD
BEGIN:DAYLIGHT
TZOFFSETFROM:+0100
TZOFFSETTO:+0200
TZNAME:CEST
DTSTART:20230326T010000
END:DAYLIGHT
BEGIN:STANDARD
TZOFFSETFROM:+0200
TZOFFSETTO:+0100
TZNAME:CET
DTSTART:20231029T010000
END:STANDARD
END:VTIMEZONE
BEGIN:VEVENT
DTSTART;TZID=Europe/Berlin:20220925T140000
DTEND;TZID=Europe/Berlin:20221106T170000
DTSTAMP:20260425T152158
CREATED:20220918T120100Z
LAST-MODIFIED:20220918T120100Z
UID:604-1664114400-1667754000@www.museum-kloster-hasungen.de
SUMMARY:Ausstellung: Naives in Kunst und Bild
DESCRIPTION:In der Reihe\n“Künstler aus der Region”\nladen wir ein zur Ausstellung von \nDieter Christian Ochs\nCarlsdorf \n“Naives in Kunst und Bild – Ansichten und Einblicke” \nbegleitet vom Künstler und Autoren selbst mit Texten und Reimen aus\nseinen eigenen Werken \nVernissage am 25.9. von 14 bis 17 Uhr \nbis Sonntag\, 6. November 2022 \nDer Eintritt ist frei. Spenden sind gerne willkommen. Sie kommen der Museumsarbeit zugute. \nBei Anreise mit PKW bitten wir\, möglichst die Parkflächen an der Grillhütte beim Friedhof zu benutzen. \nBitte beachten: \nWir werden mit tagesaktuellen C-Regeln eröffnen. Sie sollen gesund heimkehren können.
URL:https://www.museum-kloster-hasungen.de/event/ausstellung-naives-in-kunst-und-bild/
LOCATION:Museum Kloster Hasungen\, Hasunger Str. 21\, Burghasungen\, Deutschland\, 34289\, Deutschland
ATTACH;FMTTYPE=image/jpeg:https://www.museum-kloster-hasungen.de/wp-content/uploads/2022/09/Ochs-25-09-2022.jpg
END:VEVENT
BEGIN:VEVENT
DTSTART;TZID=Europe/Berlin:20221125T150000
DTEND;TZID=Europe/Berlin:20221127T190000
DTSTAMP:20260425T152158
CREATED:20221126T074428Z
LAST-MODIFIED:20221126T074428Z
UID:616-1669388400-1669575600@www.museum-kloster-hasungen.de
SUMMARY:1. Künstlerischer Adventmarkt
DESCRIPTION:Der Museumsverein “Kloster Hasungen” lädt ein zum \n1. Künstlerischen Adventmarkt \nim Museum in Burghasungen \nFreitag 25. bis Sonntag 27. Nov. 2022\nFreitag / Samstag 15 bis 19 Uhr\nSonntag 14 bis 19 Uhr \nIn der Reihe \n“Künstler aus der Region“ \nzeigt eine Künstlergruppe eigenes Kunsthandwerk und Adventliches \nDr. Erwin Carl / Maler – Dörnberg\nPeter Jakobi /Bildhauer /Maler – Kassel\nHelmut Mander /Bildhauer /Maler – Burghasungen\nDieter-Christian Ochs /Maler /Reiseschriftsteller /Poet – Carlsdorf\nBettina Richter /Kunsthandwerkerin /Gestalterin – Burghasungen\nAnnegret Siebert /Malerin /Kunsthandwerkerin – Westuffeln\nMarcus Witt / Kunsthandwerker – Burghasungen /Grebenstein \n* \nDer Eintritt ist frei. Spenden sind gerne willkommen. Sie kommen der Museumsarbeit zugute. Bei Anreise mit\ndem PKW bitten wir möglichst um Benutzung der Parkfläche beim Friedhof an der Grillhütte. \n* \nMaskenempfehlung bei geringen Abständen. Wir versuchen\, die Türen offenzuhalten. \n* \nDer Vorstand des Museumvereins Kloster Hasungen e.V.
URL:https://www.museum-kloster-hasungen.de/event/1-kuenstlerischer-adventmarkt/
LOCATION:Museum Kloster Hasungen\, Hasunger Str. 21\, Burghasungen\, Deutschland\, 34289\, Deutschland
END:VEVENT
END:VCALENDAR